BEGIN:VCALENDAR
VERSION:2.0
PRODID:-//Evangelische Jugend Freiburg - ECPv6.15.17//NONSGML v1.0//EN
CALSCALE:GREGORIAN
METHOD:PUBLISH
X-ORIGINAL-URL:https://ejufr.de
X-WR-CALDESC:Veranstaltungen für Evangelische Jugend Freiburg
REFRESH-INTERVAL;VALUE=DURATION:PT1H
X-Robots-Tag:noindex
X-PUBLISHED-TTL:PT1H
BEGIN:VTIMEZONE
TZID:Europe/Berlin
BEGIN:DAYLIGHT
TZOFFSETFROM:+0100
TZOFFSETTO:+0200
TZNAME:CEST
DTSTART:20250330T010000
END:DAYLIGHT
BEGIN:STANDARD
TZOFFSETFROM:+0200
TZOFFSETTO:+0100
TZNAME:CET
DTSTART:20251026T010000
END:STANDARD
BEGIN:DAYLIGHT
TZOFFSETFROM:+0100
TZOFFSETTO:+0200
TZNAME:CEST
DTSTART:20260329T010000
END:DAYLIGHT
BEGIN:STANDARD
TZOFFSETFROM:+0200
TZOFFSETTO:+0100
TZNAME:CET
DTSTART:20261025T010000
END:STANDARD
BEGIN:DAYLIGHT
TZOFFSETFROM:+0100
TZOFFSETTO:+0200
TZNAME:CEST
DTSTART:20270328T010000
END:DAYLIGHT
BEGIN:STANDARD
TZOFFSETFROM:+0200
TZOFFSETTO:+0100
TZNAME:CET
DTSTART:20271031T010000
END:STANDARD
END:VTIMEZONE
BEGIN:VEVENT
DTSTART;TZID=Europe/Berlin:20260617T170000
DTEND;TZID=Europe/Berlin:20260617T220000
DTSTAMP:20260421T105430
CREATED:20251215T091224Z
LAST-MODIFIED:20251215T091224Z
UID:2382-1781715600-1781733600@ejufr.de
SUMMARY:Alle Achtung Schulung - Prävention vor sexualisierter Gewalt
DESCRIPTION:Herzliche Einladung zur Präventionsschulung vor sexualisierter Gewalt.\nDie Schulung wird bescheinigt. \nKinder und Jugendliche haben bei Angeboten\, Veranstaltungen\, Gruppen und Freizeiten der Evangelischen Jugend das Recht auf Sicherheit\, Privatsphäre und einen achtungsvollen Umgang. Deshalb sind die Mitarbeitenden in den verschiedenen Arbeitsbereichen und Verbänden herausgefordert\, eine Kultur der Grenzachtung zu entwickeln und Präventionsschulungen durchzuführen. \nIn dieser Kultur achten die Mitarbeitenden auf eine angemessene Nähe und Distanz zu den ihn anvertrauten Menschen und respektieren deren Intimsphäre. Sie erkennen Grenzverletzungen\, entschuldigen sich oder weisen andere auf ihr Verhalten hin. Bei Übergriffen und strafbaren Handlungen orientieren sie sich an den entsprechenden Handlungsplänen\, informieren die Verantwortlichen und wenden sich zur Beratung an das Vertrauenstelefon oder eine örtliche Beratungsstelle. Freizeitmaßnahmen\, Veranstaltungen und Gruppen sind so konzipiert\, dass sie Kinder\, Jugendliche und schutzbefohlene Erwachsene in ihrer Selbstständigkeit\, der Vertretung ihrer Interessen und Bedürfnisse und in ihrer Selbstachtung stärken.
URL:https://ejufr.de/termin/alle-achtung-schulung-praevention-vor-sexualisierter-gewalt-2/
LOCATION:Evangelische Jugend Freiburg\, Schnewlinstraße 2\, Freiburg im Breisgau\, Baden-Württemberg\, 79098\, Deutschland
CATEGORIES:Bildungsangebote
ATTACH;FMTTYPE=image/png:https://ejufr.de/wp-content/uploads/Herunterladen.png
ORGANIZER;CN="Evang. Jugend Freiburg":MAILTO:jugendwerk.freiburg@kbz.ekiba.de
END:VEVENT
BEGIN:VEVENT
DTSTART;TZID=Europe/Berlin:20260619T183000
DTEND;TZID=Europe/Berlin:20260619T220000
DTSTAMP:20260421T105430
CREATED:20251215T094654Z
LAST-MODIFIED:20251215T094654Z
UID:2400-1781893800-1781906400@ejufr.de
SUMMARY:YURCH - Youth Church
DESCRIPTION:Feier mit uns Gottesdienst –\nmit Zeit für persönliches Gebet\, Musik & Message in einer entspannten Atmosphäre.
URL:https://ejufr.de/termin/yurch-youth-church-5/
LOCATION:Evangelische Jugend Freiburg\, Schnewlinstraße 2\, Freiburg im Breisgau\, Baden-Württemberg\, 79098\, Deutschland
CATEGORIES:Gottesdienste
ORGANIZER;CN="Evang. Jugend Freiburg":MAILTO:jugendwerk.freiburg@kbz.ekiba.de
END:VEVENT
BEGIN:VEVENT
DTSTART;TZID=Europe/Berlin:20260628T190000
DTEND;TZID=Europe/Berlin:20260628T210000
DTSTAMP:20260421T105430
CREATED:20260303T215037Z
LAST-MODIFIED:20260303T215037Z
UID:2523-1782673200-1782680400@ejufr.de
SUMMARY:Wohnzimmerkirche
DESCRIPTION:ankommen\ngemütlich machen\nmit snackbar\nsmalltalk und deeptalk\ndeinen gedanken\nüber gott und die welt\nmit hoffnungslichtern\nund musik
URL:https://ejufr.de/termin/wohnzimmerkirche-2/
LOCATION:Kreuzkirche Freiburg\, Fehrenbachallee 50\, Freiburg\, 79106\, Germany
CATEGORIES:Gottesdienste
ATTACH;FMTTYPE=image/jpeg:https://ejufr.de/wp-content/uploads/IMG_8323.jpg
END:VEVENT
END:VCALENDAR