BEGIN:VCALENDAR
VERSION:2.0
PRODID:-//Evangelische Jugend Freiburg - ECPv6.15.17//NONSGML v1.0//EN
CALSCALE:GREGORIAN
METHOD:PUBLISH
X-ORIGINAL-URL:https://ejufr.de
X-WR-CALDESC:Veranstaltungen für Evangelische Jugend Freiburg
REFRESH-INTERVAL;VALUE=DURATION:PT1H
X-Robots-Tag:noindex
X-PUBLISHED-TTL:PT1H
BEGIN:VTIMEZONE
TZID:Europe/Berlin
BEGIN:DAYLIGHT
TZOFFSETFROM:+0100
TZOFFSETTO:+0200
TZNAME:CEST
DTSTART:20250330T010000
END:DAYLIGHT
BEGIN:STANDARD
TZOFFSETFROM:+0200
TZOFFSETTO:+0100
TZNAME:CET
DTSTART:20251026T010000
END:STANDARD
BEGIN:DAYLIGHT
TZOFFSETFROM:+0100
TZOFFSETTO:+0200
TZNAME:CEST
DTSTART:20260329T010000
END:DAYLIGHT
BEGIN:STANDARD
TZOFFSETFROM:+0200
TZOFFSETTO:+0100
TZNAME:CET
DTSTART:20261025T010000
END:STANDARD
BEGIN:DAYLIGHT
TZOFFSETFROM:+0100
TZOFFSETTO:+0200
TZNAME:CEST
DTSTART:20270328T010000
END:DAYLIGHT
BEGIN:STANDARD
TZOFFSETFROM:+0200
TZOFFSETTO:+0100
TZNAME:CET
DTSTART:20271031T010000
END:STANDARD
END:VTIMEZONE
BEGIN:VEVENT
DTSTART;TZID=Europe/Berlin:20260510T190000
DTEND;TZID=Europe/Berlin:20260510T210000
DTSTAMP:20260421T091505
CREATED:20260303T214910Z
LAST-MODIFIED:20260303T214910Z
UID:2519-1778439600-1778446800@ejufr.de
SUMMARY:Wohnzimmerkirche
DESCRIPTION:ankommen\ngemütlich machen\nmit snackbar\nsmalltalk und deeptalk\ndeinen gedanken\nüber gott und die welt\nmit hoffnungslichtern\nund musik
URL:https://ejufr.de/termin/wohnzimmerkirche/
LOCATION:Kreuzkirche Freiburg\, Fehrenbachallee 50\, Freiburg\, 79106\, Germany
CATEGORIES:Gottesdienste
ATTACH;FMTTYPE=image/jpeg:https://ejufr.de/wp-content/uploads/IMG_8323.jpg
END:VEVENT
BEGIN:VEVENT
DTSTART;TZID=Europe/Berlin:20260522T183000
DTEND;TZID=Europe/Berlin:20260522T220000
DTSTAMP:20260421T091505
CREATED:20251215T094600Z
LAST-MODIFIED:20251215T094600Z
UID:2398-1779474600-1779487200@ejufr.de
SUMMARY:YURCH - Youth Church
DESCRIPTION:Feier mit uns Gottesdienst –\nmit Zeit für persönliches Gebet\, Musik & Message in einer entspannten Atmosphäre.
URL:https://ejufr.de/termin/yurch-youth-church-4/
LOCATION:Evangelische Jugend Freiburg\, Schnewlinstraße 2\, Freiburg im Breisgau\, Baden-Württemberg\, 79098\, Deutschland
CATEGORIES:Gottesdienste
ORGANIZER;CN="Evang. Jugend Freiburg":MAILTO:jugendwerk.freiburg@kbz.ekiba.de
END:VEVENT
END:VCALENDAR