BEGIN:VCALENDAR
VERSION:2.0
PRODID:-//Evangelische Jugend Freiburg - ECPv6.15.17//NONSGML v1.0//EN
CALSCALE:GREGORIAN
METHOD:PUBLISH
X-ORIGINAL-URL:https://ejufr.de
X-WR-CALDESC:Veranstaltungen für Evangelische Jugend Freiburg
REFRESH-INTERVAL;VALUE=DURATION:PT1H
X-Robots-Tag:noindex
X-PUBLISHED-TTL:PT1H
BEGIN:VTIMEZONE
TZID:Europe/Berlin
BEGIN:DAYLIGHT
TZOFFSETFROM:+0100
TZOFFSETTO:+0200
TZNAME:CEST
DTSTART:20240331T010000
END:DAYLIGHT
BEGIN:STANDARD
TZOFFSETFROM:+0200
TZOFFSETTO:+0100
TZNAME:CET
DTSTART:20241027T010000
END:STANDARD
BEGIN:DAYLIGHT
TZOFFSETFROM:+0100
TZOFFSETTO:+0200
TZNAME:CEST
DTSTART:20250330T010000
END:DAYLIGHT
BEGIN:STANDARD
TZOFFSETFROM:+0200
TZOFFSETTO:+0100
TZNAME:CET
DTSTART:20251026T010000
END:STANDARD
BEGIN:DAYLIGHT
TZOFFSETFROM:+0100
TZOFFSETTO:+0200
TZNAME:CEST
DTSTART:20260329T010000
END:DAYLIGHT
BEGIN:STANDARD
TZOFFSETFROM:+0200
TZOFFSETTO:+0100
TZNAME:CET
DTSTART:20261025T010000
END:STANDARD
END:VTIMEZONE
BEGIN:VEVENT
DTSTART;TZID=Europe/Berlin:20250702T180000
DTEND;TZID=Europe/Berlin:20251121T210000
DTSTAMP:20260420T235259
CREATED:20250506T100444Z
LAST-MODIFIED:20250703T133059Z
UID:2232-1751479200-1763758800@ejufr.de
SUMMARY:Konfi-Teamenden Schulung
DESCRIPTION:… für neue Konfi-Teamende in Freiburg! \nWir beginnen die Konfi-Teamenden Schulung gemeinsam mit einem Kick-off am Mittwoch\, 2. Juli um 18 Uhr bei Cocktails\, Challenges\, Infos und Austausch in den Räumlichkeiten der Evang. Jugend Freiburg (Schnewlinstraße 2\, 79098 Freiburg). \nIm Anschluss wählst Du zwischen zwei Schulungsabenden\n(Do\, 20. November 18-21 Uhr & Fr\, 21. November 16-19 Uhr) \noder \neinem Schulungswochenende\n(Fr\, 17. Oktober – So\, 19. Oktober in Bad Krozingen). \nDu hast Lust bekommen?\nDann melde Dich gleich an und sei dabei! \nWir freuen uns auf Dich!
URL:https://ejufr.de/termin/konfiteamendenschulung/
LOCATION:Evangelische Jugend Freiburg\, Schnewlinstraße 2\, Freiburg im Breisgau\, Baden-Württemberg\, 79098\, Deutschland
CATEGORIES:Bildungsangebote
ORGANIZER;CN="Evang. Jugend Freiburg":MAILTO:jugendwerk.freiburg@kbz.ekiba.de
END:VEVENT
BEGIN:VEVENT
DTSTART;TZID=Europe/Berlin:20251026T080000
DTEND;TZID=Europe/Berlin:20251102T180000
DTSTAMP:20260420T235259
CREATED:20241107T150350Z
LAST-MODIFIED:20251117T144320Z
UID:2018-1761465600-1762106400@ejufr.de
SUMMARY:Taizéfahrt in den Herbstferien
DESCRIPTION:In den Herbstferien bieten wir eine Taizéfahrt für Jugendliche und junge Erwachsene im Alter von 15 bis 26 Jahren an. Anmeldungen ab sofort möglich! \n  \nTaizé – was ist das? \nDie Communauté de Taizé (Gemeinschaft von Taizé) ist ein internationaler ökumenischer Männerorden in dem kleinen burgundischen Dorf Taizé. Sie wurde 1942 von Roger Schutz gegründet und zählt heute annähernd achtzig Brüder verschiedener Herkunft – Katholiken\, Anglikaner und Mitglieder verschiedener evangelischer Kirchen. Sie stammen aus etwa dreißig Ländern. \nWas Dich in Taizé erwartet… \nAbstand vom Alltag gewinnen\, den Stress vergessen und Zeit für sich haben\, andere Jugendliche aus der ganzen Welt kennenlernen\, gemeinsam Glauben leben und miteinander Gemeinschaft erleben: Das kannst Du in Taizé.\nDie Brüder laden Jugendliche von der ganzen Welt nach Taizé ein\, um dort mit ihnen zu leben\, zu singen und zu beten und über das Leben und den Glauben in Kirche und Gesellschaft ins Gespräch zu kommen. Taizé kann man nicht beschreiben – Taizé muss man erleben! \n  \nDu hast Lust bekommen?\nDann melde Dich jetzt an! \nJede und jeder soll sich die Taizé Fahrt leisten können.\nDeshalb bestimmst Du selbst\, wie viel Du bezahlst.\nWenn Du im Kirchenbezirk Freiburg wohnst\, gibt es folgende Beitragsoptionen: \n\nDu überweist 199€ und erhältst die volle Leistung.\nDu überweist 229€\, erhältst die volle Leistung und übernimmst die realen Kosten für Deinen Aufenthalt in Taizé.\n\nWenn Dein Wohnort außerhalb des Kirchenbezirks Freiburg liegt: \n\nDu überweist 229€ und erhältst die volle Leistung.\nDu überweist 249€\, erhältst die volle Leistung und übernimmst die realen Kosten für Deinen Aufenthalt in Taizé.\n\nWenn keine der Beitragsoptionen für Dich möglich ist\, melde Dich gerne bei uns! \nBitte überweise mit der Anmeldung den Teilnehmenden-Beitrag unter Angabe Deines Namens auf nachstehendes Konto: \nBezirksjugend Freiburg\nSparkasse Freiburg – Nördlicher Breisgau\nIBAN: DE77 6805 0101 0002 2866 95 \nMit Überweisung des Teilnehmenden-Beitrags ist die Anmeldung verbindlich.\nDu erhältst dann eine Bestätigungsmail mit weiteren Infos von uns. \nWir freuen uns auf Dich! \n 
URL:https://ejufr.de/termin/taizefahrt-save-the-date/
LOCATION:Baden-Württemberg
CATEGORIES:Freizeiten
ATTACH;FMTTYPE=image/jpeg:https://ejufr.de/wp-content/uploads/IMG_1161-scaled.jpg
END:VEVENT
BEGIN:VEVENT
DTSTART;TZID=Europe/Berlin:20251121T200000
DTEND;TZID=Europe/Berlin:20251121T210000
DTSTAMP:20260420T235259
CREATED:20231219T120258Z
LAST-MODIFIED:20251017T224452Z
UID:1554-1763755200-1763758800@ejufr.de
SUMMARY:Nacht der Lichter
DESCRIPTION:Am 21.11. findet die Nacht der Lichter im Freiburger Münster statt! Herzliche Einladung! \n  \nFalls jemand im Chor für die Nacht der Lichter mitsingen oder spielen mag\, freuen wir uns. \nDas sind die Probentermine für dieses Jahr: \nProben: \nmontags 3.\, 10. & 17.11.\, jeweils von 20 bis 21:30 Uhr \nGeneralprobe: \nDonnerstag\, 20.11.\, 18 bis 20 Uhr \nProbenort: \nKirche Heilige Familie\, unten in der Krypta\, Hofackerstr. 35a\, 79110 Freiburg (rechts die Kirche entlang laufen\, durch die Sakristeitür\, die Treppe runter) \nAblauf am Freitag\, 21.11. im Freiburger Münster: \nab 16:30 Uhr bis 18:15 Uhr: Soundcheck mit Ansingen der Lieder \n19:30 Uhr: Einstimmen und Einsingen mit der Gemeinde \n20 Uhr: Beginn des Gebets \n  \nZur besseren Planung und Probenvorbereitung meldet euch bitte im Vorfeld an. \nAnmeldung bei: \nOlivia Costanzo \nHandy: 0176-20918596 \nE-Mail:  \n  \nHerzlich Einladung mit zu musizieren!\nAlle Instrumente und Stimmlagen sind willkommen.
URL:https://ejufr.de/termin/nacht-der-lichter-2/
LOCATION:Freiburger Münster\, Münsterplatz\, 79098 Freiburg im Breisgau
CATEGORIES:Gottesdienste
ATTACH;FMTTYPE=image/jpeg:https://ejufr.de/wp-content/uploads/11b7132b-3880-47a1-a601-99a9c908f36e.jpg
ORGANIZER;CN="Evang. Jugend Freiburg":MAILTO:jugendwerk.freiburg@kbz.ekiba.de
END:VEVENT
BEGIN:VEVENT
DTSTART;TZID=Europe/Berlin:20251122T180000
DTEND;TZID=Europe/Berlin:20251122T200000
DTSTAMP:20260420T235259
CREATED:20231220T130047Z
LAST-MODIFIED:20251120T122337Z
UID:1593-1763834400-1763841600@ejufr.de
SUMMARY:Stadtjugendsynode verschoben!
DESCRIPTION:
URL:https://ejufr.de/termin/stadtjugendsynode-2/
LOCATION:Baden-Württemberg
CATEGORIES:Gremien
END:VEVENT
BEGIN:VEVENT
DTSTART;TZID=Europe/Berlin:20251122T200000
DTEND;TZID=Europe/Berlin:20251122T230000
DTSTAMP:20260420T235259
CREATED:20231220T125805Z
LAST-MODIFIED:20251120T122400Z
UID:1589-1763841600-1763852400@ejufr.de
SUMMARY:Mitarbeitenden-DANK verschoben!
DESCRIPTION:Wir wollen DANKE sagen! Dafür laden wir Dich herzlich zu einem gemeinsamen Abendessen ein! \n 
URL:https://ejufr.de/termin/mitarbeitenden-dank-2/
LOCATION:Baden-Württemberg
END:VEVENT
BEGIN:VEVENT
DTSTART;TZID=Europe/Berlin:20251124T160000
DTEND;TZID=Europe/Berlin:20251124T210000
DTSTAMP:20260420T235259
CREATED:20240711T132937Z
LAST-MODIFIED:20251124T092007Z
UID:1892-1764000000-1764018000@ejufr.de
SUMMARY:Alle Achtung Schulung – Prävention vor sexualisierter Gewalt
DESCRIPTION:Herzliche Einladung zur Präventionsschulung vor sexualisierter Gewalt.\nDie Schulung wird bescheinigt. \nKinder und Jugendliche haben bei Angeboten\, Veranstaltungen\, Gruppen und Freizeiten der Evangelischen Jugend das Recht auf Sicherheit\, Privatsphäre und einen achtungsvollen Umgang. Deshalb sind die Mitarbeitenden in den verschiedenen Arbeitsbereichen und Verbänden herausgefordert\, eine Kultur der Grenzachtung zu entwickeln und Präventionsschulungen durchzuführen. \nIn dieser Kultur achten die Mitarbeitenden auf eine angemessene Nähe und Distanz zu den ihn anvertrauten Menschen und respektieren deren Intimsphäre. Sie erkennen Grenzverletzungen\, entschuldigen sich oder weisen andere auf ihr Verhalten hin. Bei Übergriffen und strafbaren Handlungen orientieren sie sich an den entsprechenden Handlungsplänen\, informieren die Verantwortlichen und wenden sich zur Beratung an das Vertrauenstelefon oder eine örtliche Beratungsstelle. Freizeitmaßnahmen\, Veranstaltungen und Gruppen sind so konzipiert\, dass sie Kinder\, Jugendliche und schutzbefohlene Erwachsene in ihrer Selbstständigkeit\, der Vertretung ihrer Interessen und Bedürfnisse und in ihrer Selbstachtung stärken.
URL:https://ejufr.de/termin/alle-achtung-schulung-praevention-vor-sexualisierter-gewalt-8/
LOCATION:Evangelische Jugend Freiburg\, Schnewlinstraße 2\, Freiburg im Breisgau\, Baden-Württemberg\, 79098\, Deutschland
CATEGORIES:Bildungsangebote
ATTACH;FMTTYPE=image/jpeg:https://ejufr.de/wp-content/uploads/Alle-Achtung-Logo.jpg
ORGANIZER;CN="Evang. Jugend Freiburg":MAILTO:jugendwerk.freiburg@kbz.ekiba.de
END:VEVENT
END:VCALENDAR