BEGIN:VCALENDAR
VERSION:2.0
PRODID:-//Evangelische Jugend Freiburg - ECPv6.15.17//NONSGML v1.0//EN
CALSCALE:GREGORIAN
METHOD:PUBLISH
X-WR-CALNAME:Evangelische Jugend Freiburg
X-ORIGINAL-URL:https://ejufr.de
X-WR-CALDESC:Veranstaltungen für Evangelische Jugend Freiburg
REFRESH-INTERVAL;VALUE=DURATION:PT1H
X-Robots-Tag:noindex
X-PUBLISHED-TTL:PT1H
BEGIN:VTIMEZONE
TZID:Europe/Berlin
BEGIN:DAYLIGHT
TZOFFSETFROM:+0100
TZOFFSETTO:+0200
TZNAME:CEST
DTSTART:20240331T010000
END:DAYLIGHT
BEGIN:STANDARD
TZOFFSETFROM:+0200
TZOFFSETTO:+0100
TZNAME:CET
DTSTART:20241027T010000
END:STANDARD
BEGIN:DAYLIGHT
TZOFFSETFROM:+0100
TZOFFSETTO:+0200
TZNAME:CEST
DTSTART:20250330T010000
END:DAYLIGHT
BEGIN:STANDARD
TZOFFSETFROM:+0200
TZOFFSETTO:+0100
TZNAME:CET
DTSTART:20251026T010000
END:STANDARD
BEGIN:DAYLIGHT
TZOFFSETFROM:+0100
TZOFFSETTO:+0200
TZNAME:CEST
DTSTART:20260329T010000
END:DAYLIGHT
BEGIN:STANDARD
TZOFFSETFROM:+0200
TZOFFSETTO:+0100
TZNAME:CET
DTSTART:20261025T010000
END:STANDARD
END:VTIMEZONE
BEGIN:VEVENT
DTSTART;TZID=Europe/Berlin:20250702T180000
DTEND;TZID=Europe/Berlin:20251121T210000
DTSTAMP:20260420T220827
CREATED:20250506T100444Z
LAST-MODIFIED:20250703T133059Z
UID:2232-1751479200-1763758800@ejufr.de
SUMMARY:Konfi-Teamenden Schulung
DESCRIPTION:… für neue Konfi-Teamende in Freiburg! \nWir beginnen die Konfi-Teamenden Schulung gemeinsam mit einem Kick-off am Mittwoch\, 2. Juli um 18 Uhr bei Cocktails\, Challenges\, Infos und Austausch in den Räumlichkeiten der Evang. Jugend Freiburg (Schnewlinstraße 2\, 79098 Freiburg). \nIm Anschluss wählst Du zwischen zwei Schulungsabenden\n(Do\, 20. November 18-21 Uhr & Fr\, 21. November 16-19 Uhr) \noder \neinem Schulungswochenende\n(Fr\, 17. Oktober – So\, 19. Oktober in Bad Krozingen). \nDu hast Lust bekommen?\nDann melde Dich gleich an und sei dabei! \nWir freuen uns auf Dich!
URL:https://ejufr.de/termin/konfiteamendenschulung/
LOCATION:Evangelische Jugend Freiburg\, Schnewlinstraße 2\, Freiburg im Breisgau\, Baden-Württemberg\, 79098\, Deutschland
CATEGORIES:Bildungsangebote
ORGANIZER;CN="Evang. Jugend Freiburg":MAILTO:jugendwerk.freiburg@kbz.ekiba.de
END:VEVENT
BEGIN:VEVENT
DTSTART;TZID=Europe/Berlin:20251026T080000
DTEND;TZID=Europe/Berlin:20251102T180000
DTSTAMP:20260420T220827
CREATED:20241107T150350Z
LAST-MODIFIED:20251117T144320Z
UID:2018-1761465600-1762106400@ejufr.de
SUMMARY:Taizéfahrt in den Herbstferien
DESCRIPTION:In den Herbstferien bieten wir eine Taizéfahrt für Jugendliche und junge Erwachsene im Alter von 15 bis 26 Jahren an. Anmeldungen ab sofort möglich! \n  \nTaizé – was ist das? \nDie Communauté de Taizé (Gemeinschaft von Taizé) ist ein internationaler ökumenischer Männerorden in dem kleinen burgundischen Dorf Taizé. Sie wurde 1942 von Roger Schutz gegründet und zählt heute annähernd achtzig Brüder verschiedener Herkunft – Katholiken\, Anglikaner und Mitglieder verschiedener evangelischer Kirchen. Sie stammen aus etwa dreißig Ländern. \nWas Dich in Taizé erwartet… \nAbstand vom Alltag gewinnen\, den Stress vergessen und Zeit für sich haben\, andere Jugendliche aus der ganzen Welt kennenlernen\, gemeinsam Glauben leben und miteinander Gemeinschaft erleben: Das kannst Du in Taizé.\nDie Brüder laden Jugendliche von der ganzen Welt nach Taizé ein\, um dort mit ihnen zu leben\, zu singen und zu beten und über das Leben und den Glauben in Kirche und Gesellschaft ins Gespräch zu kommen. Taizé kann man nicht beschreiben – Taizé muss man erleben! \n  \nDu hast Lust bekommen?\nDann melde Dich jetzt an! \nJede und jeder soll sich die Taizé Fahrt leisten können.\nDeshalb bestimmst Du selbst\, wie viel Du bezahlst.\nWenn Du im Kirchenbezirk Freiburg wohnst\, gibt es folgende Beitragsoptionen: \n\nDu überweist 199€ und erhältst die volle Leistung.\nDu überweist 229€\, erhältst die volle Leistung und übernimmst die realen Kosten für Deinen Aufenthalt in Taizé.\n\nWenn Dein Wohnort außerhalb des Kirchenbezirks Freiburg liegt: \n\nDu überweist 229€ und erhältst die volle Leistung.\nDu überweist 249€\, erhältst die volle Leistung und übernimmst die realen Kosten für Deinen Aufenthalt in Taizé.\n\nWenn keine der Beitragsoptionen für Dich möglich ist\, melde Dich gerne bei uns! \nBitte überweise mit der Anmeldung den Teilnehmenden-Beitrag unter Angabe Deines Namens auf nachstehendes Konto: \nBezirksjugend Freiburg\nSparkasse Freiburg – Nördlicher Breisgau\nIBAN: DE77 6805 0101 0002 2866 95 \nMit Überweisung des Teilnehmenden-Beitrags ist die Anmeldung verbindlich.\nDu erhältst dann eine Bestätigungsmail mit weiteren Infos von uns. \nWir freuen uns auf Dich! \n 
URL:https://ejufr.de/termin/taizefahrt-save-the-date/
LOCATION:Baden-Württemberg
CATEGORIES:Freizeiten
ATTACH;FMTTYPE=image/jpeg:https://ejufr.de/wp-content/uploads/IMG_1161-scaled.jpg
END:VEVENT
END:VCALENDAR