BEGIN:VCALENDAR
VERSION:2.0
PRODID:-//Evangelische Jugend Freiburg - ECPv6.15.17//NONSGML v1.0//EN
CALSCALE:GREGORIAN
METHOD:PUBLISH
X-WR-CALNAME:Evangelische Jugend Freiburg
X-ORIGINAL-URL:https://ejufr.de
X-WR-CALDESC:Veranstaltungen für Evangelische Jugend Freiburg
REFRESH-INTERVAL;VALUE=DURATION:PT1H
X-Robots-Tag:noindex
X-PUBLISHED-TTL:PT1H
BEGIN:VTIMEZONE
TZID:Europe/Berlin
BEGIN:DAYLIGHT
TZOFFSETFROM:+0100
TZOFFSETTO:+0200
TZNAME:CEST
DTSTART:20240331T010000
END:DAYLIGHT
BEGIN:STANDARD
TZOFFSETFROM:+0200
TZOFFSETTO:+0100
TZNAME:CET
DTSTART:20241027T010000
END:STANDARD
BEGIN:DAYLIGHT
TZOFFSETFROM:+0100
TZOFFSETTO:+0200
TZNAME:CEST
DTSTART:20250330T010000
END:DAYLIGHT
BEGIN:STANDARD
TZOFFSETFROM:+0200
TZOFFSETTO:+0100
TZNAME:CET
DTSTART:20251026T010000
END:STANDARD
BEGIN:DAYLIGHT
TZOFFSETFROM:+0100
TZOFFSETTO:+0200
TZNAME:CEST
DTSTART:20260329T010000
END:DAYLIGHT
BEGIN:STANDARD
TZOFFSETFROM:+0200
TZOFFSETTO:+0100
TZNAME:CET
DTSTART:20261025T010000
END:STANDARD
END:VTIMEZONE
BEGIN:VEVENT
DTSTART;TZID=Europe/Berlin:20250702T180000
DTEND;TZID=Europe/Berlin:20251121T210000
DTSTAMP:20260420T170703
CREATED:20250506T100444Z
LAST-MODIFIED:20250703T133059Z
UID:2232-1751479200-1763758800@ejufr.de
SUMMARY:Konfi-Teamenden Schulung
DESCRIPTION:… für neue Konfi-Teamende in Freiburg! \nWir beginnen die Konfi-Teamenden Schulung gemeinsam mit einem Kick-off am Mittwoch\, 2. Juli um 18 Uhr bei Cocktails\, Challenges\, Infos und Austausch in den Räumlichkeiten der Evang. Jugend Freiburg (Schnewlinstraße 2\, 79098 Freiburg). \nIm Anschluss wählst Du zwischen zwei Schulungsabenden\n(Do\, 20. November 18-21 Uhr & Fr\, 21. November 16-19 Uhr) \noder \neinem Schulungswochenende\n(Fr\, 17. Oktober – So\, 19. Oktober in Bad Krozingen). \nDu hast Lust bekommen?\nDann melde Dich gleich an und sei dabei! \nWir freuen uns auf Dich!
URL:https://ejufr.de/termin/konfiteamendenschulung/
LOCATION:Evangelische Jugend Freiburg\, Schnewlinstraße 2\, Freiburg im Breisgau\, Baden-Württemberg\, 79098\, Deutschland
CATEGORIES:Bildungsangebote
ORGANIZER;CN="Evang. Jugend Freiburg":MAILTO:jugendwerk.freiburg@kbz.ekiba.de
END:VEVENT
BEGIN:VEVENT
DTSTART;TZID=Europe/Berlin:20250711T150000
DTEND;TZID=Europe/Berlin:20250713T150000
DTSTAMP:20260420T170703
CREATED:20250407T110002Z
LAST-MODIFIED:20250512T051637Z
UID:2212-1752246000-1752418800@ejufr.de
SUMMARY:SchoKo Camp - Stay hydrated
DESCRIPTION:Du hast Lust auf ein Wochenende voller Spaß\, Gemeinschaft und Action?\nDu verbringst gerne eine großartige Zeit mit anderen Jugendlichen auf einem Zeltcamp direkt am Wasser?\nDann bist Du bei uns genau richtig! \nVom 11.07 -13.07.2025 fahren wir mit Dir und anderen bereits konfirmierten Jugendlichen auf das DGB Jugendcamp Markelfingen am Bodensee.\nEingeladen sind alle Freiburger SchoKos (Schon-Konfirmierte) aus den Konfi-Jahrgängen mit Konfirmation in 2023/ ´24/ ´25. \nFreue Dich auf: \nGemeinschaft: Triff Menschen aus Deiner Konfi-Zeit wieder\, knüpfe neue Freundschaften und teile Erfahrungen. \nInspiration: Input und Austausch darüber\, was Dir und anderen wichtig ist und was euch Kraft und Energie gibt. \nAktivitäten: Abwechslungsreiche Workshops\, Spiele und Aktionen am und im Bodensee. \nAuftanken: Bewegende Zelt-Andachten mit Live-Band\, Zeit zum Abschalten und Zeit zum gemeinsamen Chillen in der Lounge. \nJede und jeder soll sich das Camp leisten können. Deshalb bestimmst Du selbst\, wie viel Du bezahlst: \n\nDu überweist 50€ und erhältst die volle Leistung.\nDu überweist 75€\, erhältst die volle Leistung und übernimmst die realen Kosten für Deinen Aufenthalt.\nDu überweist 100€\, erhältst die volle Leistung\, übernimmst die realen Kosten für Deinen Aufenthalt und ermöglichst anderen\, einen günstigeren Teilnehmenden-Beitrag.\n\nWICHTIG!!!\nWenn keine der Beitragsoptionen für Dich möglich ist\, melde Dich gerne bei uns!\nWir kümmern uns dann um unterstützende Finanzierungsmöglichkeiten. \nAnmeldeschluss ist der 04.05.2025! – Anmeldungen geschlossen! \nBitte überweise mit der Anmeldung den Teilnehmenden-Beitrag unter Angabe Deines Namens auf nachstehendes Konto: \nBezirksjugend Freiburg\nSparkasse Freiburg – Nördlicher Breisgau\nIBAN: DE77 6805 0101 0002 2866 95 \nMit Überweisung des Teilnehmenden-Beitrags ist die Anmeldung verbindlich.\nDu erhältst dann eine Anmeldebestätigung sowie alle weiteren Infos und Unterlagen rund um das Camp (Freizeitpass\, Datenschutz\, Packliste…) per Mail von uns.\nEs gelten unsere Teilnahme- und Reisebedingungen. \nBei Fragen wende Dich gerne telefonisch (+49 1573 1907892) oder per Mail  an unsere Jugendreferentin\, Lisa Hallermann . \nWir freuen uns auf Dich! 😊
URL:https://ejufr.de/termin/schoko-camp-stay-hydrated/
LOCATION:DGB Jugendcamp Markelfingen\, Am Schlafbach 10\, Reichenau\, Baden-Württemberg\, 78479\, Germany
CATEGORIES:Freizeiten
ORGANIZER;CN="Evang. Jugend Freiburg":MAILTO:jugendwerk.freiburg@kbz.ekiba.de
END:VEVENT
BEGIN:VEVENT
DTSTART;VALUE=DATE:20250712
DTEND;VALUE=DATE:20250719
DTSTAMP:20260420T170703
CREATED:20250509T091625Z
LAST-MODIFIED:20250509T091625Z
UID:2236-1752278400-1752883199@ejufr.de
SUMMARY:„Nie wieder Auschwitz …“ Studienfahrt für Schüler:innen nach Auschwitz
DESCRIPTION:Kein Name steht in der Geschichte des 20. Jahrhunderts sinnbildlicher für das von Menschen vollbrachte Unmenschliche; an keinem Ort in Europa wurden Menschen systematischer ermordet.\nAuschwitz ist zum Synonym des nationalsozialistischen Herrschaftssystems und seiner menschenverachtenden Ideologie geworden. \nNeben der Besichtigung des Lagergeländes gehen wir der Frage nach\, welche Verantwortung wir heute – 80 Jahre nach der Befreiung des Lagers haben\, damit sich dieser dunkle Teil unserer Geschichte nicht wiederholen kann. \nAußerdem steht ein Tagesausflug in das jüdische Viertel in Krakau auf dem Programm. \nDatum: \nSa\, 12. – Fr\, 18. Juli 2025 \nObligatorische Vorbereitungstreffen (digital): \nMi\, 4. Juni\, 18-19.30 Uhr \nMo\, 7. Juli\, 18-19.30 Uhr \nOrt: \nOswiecim/Polen \n  \n!!! Bitte klärt eure Teilnahme unbedingt vorab mit eurer Schulleitung ab – wir schreiben euch gerne eine Bestätigung\, falls erforderlich. !!! \n  \nKosten: \n220 € inkl. Busfahrt (Eberhardt Reisen)\, Übernachtung\, Halbpension\, Programmkosten und Eintrittsgelder \nDie Zahlung wird kurz vor der Fahrt fällig. Ihr erhaltet dann die erforderlichen Informationen.\nDiese Studienfahrt wird u.a. gefördert durch den Kinder- und Jugendplan des Bundes und das Internationale Bildungs- und Begegnungswerk e.V. (IBBgGmbH Dortmund). Wir beantragen gerade weitere Fördergelder\, es ist möglich\, dass der Gesamtpreis niedriger ausfällt. \nAnmeldung auf beiliegender Karte. -> Anmeldekarte Auschwitz 2025 \nAnmeldeschluss: Mo\, 2. Juni \nInformationen unter  \n 
URL:https://ejufr.de/termin/nie-wieder-auschwitz-studienfahrt-fuer-schuelerinnen-nach-auschwitz/
LOCATION:Oswiecim/Polen
ATTACH;FMTTYPE=application/pdf:https://ejufr.de/wp-content/uploads/Flyer-Auschwitz-2025-1.pdf
END:VEVENT
BEGIN:VEVENT
DTSTART;TZID=Europe/Berlin:20250712T090000
DTEND;TZID=Europe/Berlin:20250712T170000
DTSTAMP:20260420T170703
CREATED:20241214T091222Z
LAST-MODIFIED:20241214T091222Z
UID:2085-1752310800-1752339600@ejufr.de
SUMMARY:Erste Hilfe Kurs
DESCRIPTION:
URL:https://ejufr.de/termin/erste-hilfe-kurs/
LOCATION:Evangelische Jugend Freiburg\, Schnewlinstraße 2\, Freiburg im Breisgau\, Baden-Württemberg\, 79098\, Deutschland
CATEGORIES:Bildungsangebote
END:VEVENT
BEGIN:VEVENT
DTSTART;VALUE=DATE:20250726
DTEND;VALUE=DATE:20250803
DTSTAMP:20260420T170703
CREATED:20241014T085036Z
LAST-MODIFIED:20250415T072820Z
UID:1980-1753488000-1754179199@ejufr.de
SUMMARY:Internationale Jugendbegegnung mit Finnland
DESCRIPTION:Gemeinsam mit deutschen und finnischen Jugendlichen verbringst Du sieben erlebnisreiche Tage in einem Camp direkt am Bodensee. Dich erwartet ein abwechslungsreiches Programm voller Action\, Spaß & Gemeinschaft: Segeln auf dem Bodensee\, Kennenlernen der finnischen und deutschen Jugendlichen\, Spieleabende und viel mehr! \n  \nNa\, Lust bekommen?\nDann melde Dich jetzt an! \nDie Freizeit findet vom 26.07.-02.08.2025 statt. Da dies die letzte Schulwoche vor den Sommerferien ist\, bekommen alle Teilnehmenden einen Antrag auf Beurlaubung von uns. \nJede und jeder soll sich die Freizeit leisten können.\nDeshalb bestimmst Du selbst\, wie viel Du bezahlst.\nWenn du aus dem Kirchenbezirk Freiburg kommst\, gibt es 3 Beitragsoptionen: \n\nDu überweist 399€ und erhältst die volle Leistung.\nDu überweist 449€\, erhältst die volle Leistung und übernimmst die realen Kosten für Deinen Aufenthalt im Camp.\nDu überweist 499€\, erhältst die volle Leistung\, übernimmst die realen Kosten für Deinen Aufenthalt im Camp und ermöglichst anderen\, einen günstigeren Teilnehmenden-Beitrag.\n\nWenn du aus einem anderen Kirchenbezirk kommst: \n\nDu überweist 449€ und erhältst die volle Leistung.\nDu überweist 499€\, erhältst die volle Leistung und übernimmst die realen Kosten für Deinen Aufenthalt im Camp.\nDu überweist 549€\, erhältst die volle Leistung\, übernimmst die realen Kosten für Deinen Aufenthalt im Camp und ermöglichst anderen\, einen günstigeren Teilnehmenden-Beitrag.\n\nWenn keine der Beitragsoptionen für dich möglich ist\, melde dich gerne bei uns! \nBitte überweise mit der Anmeldung den Teilnehmenden-Beitrag unter Angabe Deines Namens auf nachstehendes Konto: \nBezirksjugend Freiburg\nSparkasse Freiburg – Nördlicher Breisgau\nIBAN: DE77 6805 0101 0002 2866 95 \nMit Überweisung des Teilnehmenden-Beitrags ist die Anmeldung verbindlich.\nDu erhältst dann eine Bestätigungsmail von uns. \nWir freuen uns auf Dich!
URL:https://ejufr.de/termin/internationale-jugendbegegnung-mit-finnland-2/
LOCATION:Bodensee\, Konstanz-Dingelsdorf\, Baden-Württemberg\, Deutschland
CATEGORIES:Freizeiten
ATTACH;FMTTYPE=image/jpeg:https://ejufr.de/wp-content/uploads/WhatsApp-Image-2025-04-14-at-22.34.18.jpeg
ORGANIZER;CN="Evang. Jugend Freiburg":MAILTO:jugendwerk.freiburg@kbz.ekiba.de
END:VEVENT
END:VCALENDAR