BEGIN:VCALENDAR
VERSION:2.0
PRODID:-//Evangelische Jugend Freiburg - ECPv6.15.17//NONSGML v1.0//EN
CALSCALE:GREGORIAN
METHOD:PUBLISH
X-WR-CALNAME:Evangelische Jugend Freiburg
X-ORIGINAL-URL:https://ejufr.de
X-WR-CALDESC:Veranstaltungen für Evangelische Jugend Freiburg
REFRESH-INTERVAL;VALUE=DURATION:PT1H
X-Robots-Tag:noindex
X-PUBLISHED-TTL:PT1H
BEGIN:VTIMEZONE
TZID:Europe/Berlin
BEGIN:DAYLIGHT
TZOFFSETFROM:+0100
TZOFFSETTO:+0200
TZNAME:CEST
DTSTART:20250330T010000
END:DAYLIGHT
BEGIN:STANDARD
TZOFFSETFROM:+0200
TZOFFSETTO:+0100
TZNAME:CET
DTSTART:20251026T010000
END:STANDARD
BEGIN:DAYLIGHT
TZOFFSETFROM:+0100
TZOFFSETTO:+0200
TZNAME:CEST
DTSTART:20260329T010000
END:DAYLIGHT
BEGIN:STANDARD
TZOFFSETFROM:+0200
TZOFFSETTO:+0100
TZNAME:CET
DTSTART:20261025T010000
END:STANDARD
BEGIN:DAYLIGHT
TZOFFSETFROM:+0100
TZOFFSETTO:+0200
TZNAME:CEST
DTSTART:20270328T010000
END:DAYLIGHT
BEGIN:STANDARD
TZOFFSETFROM:+0200
TZOFFSETTO:+0100
TZNAME:CET
DTSTART:20271031T010000
END:STANDARD
END:VTIMEZONE
BEGIN:VEVENT
DTSTART;TZID=Europe/Berlin:20260424T090000
DTEND;TZID=Europe/Berlin:20260424T160000
DTSTAMP:20260424T115809
CREATED:20260423T195346Z
LAST-MODIFIED:20260423T195346Z
UID:2585-1777021200-1777046400@ejufr.de
SUMMARY:Co-Working im S2
DESCRIPTION:
URL:https://ejufr.de/termin/co-working-im-s2/
LOCATION:Evangelische Jugend Freiburg\, Schnewlinstraße 2\, Freiburg im Breisgau\, Baden-Württemberg\, 79098\, Deutschland
CATEGORIES:Regelmäßiges
ATTACH;FMTTYPE=image/jpeg:https://ejufr.de/wp-content/uploads/Co-Working.jpeg
ORGANIZER;CN="Evang. Jugend Freiburg":MAILTO:jugendwerk.freiburg@kbz.ekiba.de
END:VEVENT
END:VCALENDAR